BEGIN:VCALENDAR
VERSION:2.0
PRODID:-//Music by Desi - ECPv6.15.3//NONSGML v1.0//EN
CALSCALE:GREGORIAN
METHOD:PUBLISH
X-WR-CALNAME:Music by Desi
X-ORIGINAL-URL:https://musicbydesi.com
X-WR-CALDESC:Events for Music by Desi
REFRESH-INTERVAL;VALUE=DURATION:PT1H
X-Robots-Tag:noindex
X-PUBLISHED-TTL:PT1H
BEGIN:VTIMEZONE
TZID:UTC
BEGIN:STANDARD
TZOFFSETFROM:+0000
TZOFFSETTO:+0000
TZNAME:UTC
DTSTART:20240101T000000
END:STANDARD
END:VTIMEZONE
BEGIN:VEVENT
DTSTART;TZID=UTC:20240316T150000
DTEND;TZID=UTC:20240316T180000
DTSTAMP:20260424T162222
CREATED:20240309T201243Z
LAST-MODIFIED:20240309T201243Z
UID:26067-1710601200-1710612000@musicbydesi.com
SUMMARY:March 16 (Private) Chula Vista
DESCRIPTION:
URL:https://musicbydesi.com/event/march-16-private-chula-vista/
END:VEVENT
BEGIN:VEVENT
DTSTART;TZID=UTC:20240315T170000
DTEND;TZID=UTC:20240315T200000
DTSTAMP:20260424T162222
CREATED:20240309T201001Z
LAST-MODIFIED:20240309T201200Z
UID:26064-1710522000-1710532800@musicbydesi.com
SUMMARY:March 15 Marbella Country Club - San Juan Capistrano
DESCRIPTION:
URL:https://musicbydesi.com/event/march-15-marbella-country-club-san-juan-capistrano/
LOCATION:Marbella Country Club\, 30800 Golf Club Drive\, San Juan Capistrano\, CA\, United States
END:VEVENT
BEGIN:VEVENT
DTSTART;TZID=UTC:20240311T150000
DTEND;TZID=UTC:20240314T180000
DTSTAMP:20260424T162222
CREATED:20240309T200518Z
LAST-MODIFIED:20240309T200518Z
UID:26061-1710169200-1710439200@musicbydesi.com
SUMMARY:March 11 thru 14 Bali Hai Happy Hours 3-6pm
DESCRIPTION:
URL:https://musicbydesi.com/event/march-11-thru-14-bali-hai-happy-hours-3-6pm/
LOCATION:Bali Hai Restaurant San Diego\, San Diego\, United States
END:VEVENT
BEGIN:VEVENT
DTSTART;TZID=UTC:20240309T170000
DTEND;TZID=UTC:20240309T210000
DTSTAMP:20260424T162222
CREATED:20240302T202719Z
LAST-MODIFIED:20240302T202719Z
UID:25874-1710003600-1710018000@musicbydesi.com
SUMMARY:March 9 (Private) Dynamic Space Employee Appreciation
DESCRIPTION:
URL:https://musicbydesi.com/event/march-9-private-dynamic-space-employee-appreciation/
LOCATION:Bali Hai Restaurant San Diego\, San Diego\, United States
END:VEVENT
END:VCALENDAR